{"text_format":"1","workbook":"xlsx","n_sheets":6,"sheets":["見積書","納品書","請求書","領収書","設定","使い方"],"not_rendered":{"charts":0,"images":0,"macros":1,"external_links":0,"defined_names":16,"comments":0,"pivot_tables":0},"unopened":[],"bounds":{"document_bytes":16777216,"sheet_cells":100000,"rows_first":2000,"rows_last":500,"rows_between":2000,"halvings":0,"cell_chars":16384,"cell_head_chars":4096},"cells_cut":0,"cells_raw":0,"read":"whole","date_system":"1900"}

{"sheet":"見積書","index":0,"n_rows":46,"n_cols":44,"rows_kept":46,"cut":false,"hidden":false,"merged":[[9,43,33,63],[52,2,52,35],[10,22,10,35],[14,24,14,28],[14,31,14,35],[17,25,17,35],[18,25,18,35],[18,22,18,24],[12,24,12,35],[13,24,13,35],[46,2,46,35],[47,2,47,35],[48,2,48,35],[49,2,49,35],[50,2,50,35],[51,2,51,35],[39,2,39,7],[39,8,39,19],[39,20,39,24],[39,25,39,27],[39,28,39,30],[39,31,39,35],[38,2,38,7],[38,8,38,19],[36,2,36,7],[36,8,36,19],[36,20,36,24],[36,25,36,27],[36,28,36,30],[36,31,36,35],[38,20,38,24],[38,25,38,27],[38,28,38,30],[38,31,38,35],[37,2,37,7],[37,8,37,19],[37,20,37,24],[37,25,37,27],[37,28,37,30],[37,31,37,35],[35,2,35,7],[35,8,35,19],[35,20,35,24],[35,25,35,27],[35,28,35,30],[35,31,35,35],[34,2,34,7],[34,8,34,19],[34,20,34,24],[34,25,34,27],[34,28,34,30],[34,31,34,35],[33,2,33,7],[33,8,33,19],[33,20,33,24],[33,25,33,27],[33,28,33,30],[33,31,33,35],[32,2,32,7],[32,8,32,19],[32,20,32,24],[32,25,32,27],[32,28,32,30],[32,31,32,35],[31,2,31,7],[31,8,31,19],[31,20,31,24],[31,25,31,27],[31,28,31,30],[31,31,31,35],[30,2,30,7],[30,8,30,19],[30,20,30,24],[30,25,30,27],[30,28,30,30],[30,31,30,35],[27,2,27,7],[27,8,27,19],[27,20,27,24],[27,25,27,27],[27,28,27,30],[27,31,27,35],[40,2,40,7],[40,8,40,19],[40,20,40,24],[40,25,40,27],[40,28,40,30],[40,31,40,35],[29,2,29,7],[29,8,29,19],[29,20,29,24],[29,25,29,27],[29,28,29,30],[29,31,29,35],[28,2,28,7],[28,8,28,19],[28,20,28,24],[28,25,28,27],[28,28,28,30],[28,31,28,35],[26,2,26,7],[26,8,26,19],[26,20,26,24],[26,25,26,27],[26,28,26,30],[26,31,26,35],[24,2,24,7],[24,8,24,19],[24,20,24,24],[24,25,24,27],[24,28,24,30],[24,31,24,35],[25,2,25,7],[25,8,25,19],[25,20,25,24],[25,25,25,27],[25,28,25,30],[25,31,25,35],[21,2,21,7],[21,8,21,19],[21,20,21,24],[21,25,21,27],[21,28,21,30],[21,31,21,35],[41,25,41,30],[42,25,42,30],[43,25,43,30],[41,31,41,35],[42,31,42,35],[43,31,43,35],[23,2,23,7],[23,8,23,19],[23,20,23,24],[23,25,23,27],[23,28,23,30],[23,31,23,35],[22,2,22,7],[22,8,22,19],[22,20,22,24],[22,25,22,27],[22,28,22,30],[22,31,22,35],[20,2,20,7],[20,8,20,19],[2,29,2,35],[3,29,3,35],[5,2,6,35],[17,22,17,24],[20,20,20,24],[20,25,20,27],[20,28,20,30],[20,31,20,35],[8,17,9,19],[8,2,9,16],[17,2,18,7],[17,8,18,17],[17,18,18,19],[14,2,15,3],[14,4,15,19]]}
[]
[]
[null,null,null,null,null,null,null,null,null,null,null,null,null,null,null,null,null,null,null,null,null,null,null,null,null,"発行日：",null,null,null,{"$f":"TODAY()","v":"2024-03-26"},null,null,null,null,null,null,null,null,null,"ID"]
[null,null,null,null,null,null,null,null,null,null,null,null,null,null,null,null,null,null,null,null,null,null,null,null,null,"見積書番号：",null,null,null,{"$f":"AN4& AN6 & \"-1\"","v":"AA45377-1"},null,null,null,null,null,null,null,null,null,"AA"]
[null,null,null,null,null,null,null,null,null,null,null,null,null,null,null,null,null,null,null,null,null,null,null,null,null,null,null,null,null,null,null,null,null,null,null,null,null,null,null,"作成日付"]
[null,null,"見積書",null,null,null,null,null,null,null,null,null,null,null,null,null,null,null,null,null,null,null,null,null,null,null,null,null,null,null,null,null,null,null,null,null,null,null,null,{"$f":"TODAY()","v":"2024-03-26"}]
[]
[]
[null,null,"●●",null,null,null,null,null,null,null,null,null,null,null,null,null,null,"御中"]
[null,null,null,null,null,null,null,null,null,null,null,null,null,null,null,null,null,null,null,null,null,null,null,null,null,null,null,null,null,null,null,null,null,null,null,null,null,null,null,null,null,null,null,"見積書"]
[null,null,null,null,null,null,null,null,null,null,null,null,null,null,null,null,null,null,null,null,null,null,"株式会社サンプル"]
[null,null,"下記の通り、お見積りさせていただきます。",null,null,null,null,null,null,null,null,null,null,null,null,null,null,null,null,null,null,null,"サンプル事業部　サンプル太郎"]
[null,null,"ご検討のほど、よろしくお願いいたします。",null,null,null,null,null,null,null,null,null,null,null,null,null,null,null,null,null,null,null,"住所：",null,"〒000-0000"]
[null,null,null,null,null,null,null,null,null,null,null,null,null,null,null,null,null,null,null,null,null,null,null,null,"サンプル県サンプル市サンプル0-0"]
[null,null,"件名：",null,"▲▲",null,null,null,null,null,null,null,null,null,null,null,null,null,null,null,null,null,"TEL：",null,"0000-00-0000",null,null,null,null,"FAX：",null,"0000-00-0000"]
[null,null,null,null,null,null,null,null,null,null,null,null,null,null,null,null,null,null,null,null,null,null,"登録番号：",null,null,null,"T0-0000-0000-0000"]
[]
[null,null,"合計金額：",null,null,null,null,null,{"$f":"AF44","v":0},null,null,null,null,null,null,null,null,null,"（税込）",null,null,null,"支払条件：",null,null,"検収日の翌月末までに現金振込"]
[null,null,null,null,null,null,null,null,null,null,null,null,null,null,null,null,null,null,null,null,null,null,"有効期限：",null,null,"発行日より3ヶ月"]
[]
[null,null,"分類",null,null,null,null,null,"項目名",null,null,null,null,null,null,null,null,null,null,null,"単価",null,null,null,null,"数量",null,null,"単位",null,null,"金額"]
[null,null,"サンプル",null,null,null,null,null,"サンプル",null,null,null,null,null,null,null,null,null,null,null,0,null,null,null,null,0,null,null,"h",null,null,{"$f":"U22*Z22","v":0}]
[]
[]
[]
[]
[]
[]
[]
[]
[]
[]
[]
[]
[]
[]
[]
[]
[]
[]
[]
[null,null,null,null,null,null,null,null,null,null,null,null,null,null,null,null,null,null,null,null,null,null,null,null,null,"小　　計",null,null,null,null,null,{"$f":"SUM(AF22:AJ41)","v":0}]
[null,null,null,null,null,null,null,null,null,null,null,null,null,null,null,null,null,null,null,null,null,null,null,null,null,{"$f":"\"消費税（\"&設定!C8&\"%）\"","v":"消費税（10%）"},null,null,null,null,null,{"$f":"AF42*設定!C8/100","v":0}]
[null,null,null,null,null,null,null,null,null,null,null,null,null,null,null,null,null,null,null,null,null,null,null,null,null,"合　　計",null,null,null,null,null,{"$f":"SUM(AF42:AJ43)","v":0}]
[]
[null,null,"≪備考≫"]

{"sheet":"納品書","index":1,"n_rows":46,"n_cols":40,"rows_kept":46,"cut":false,"hidden":false,"merged":[[46,2,46,35],[47,2,47,35],[48,2,48,35],[49,2,49,35],[50,2,50,35],[52,2,52,35],[51,2,51,35],[41,25,41,30],[41,31,41,35],[42,25,42,30],[42,31,42,35],[43,25,43,30],[43,31,43,35],[40,2,40,7],[40,8,40,19],[40,20,40,24],[40,25,40,27],[40,28,40,30],[40,31,40,35],[39,2,39,7],[39,8,39,19],[39,20,39,24],[39,25,39,27],[39,28,39,30],[39,31,39,35],[38,2,38,7],[38,8,38,19],[38,20,38,24],[38,25,38,27],[38,28,38,30],[38,31,38,35],[37,2,37,7],[37,8,37,19],[37,20,37,24],[37,25,37,27],[37,28,37,30],[37,31,37,35],[36,2,36,7],[36,8,36,19],[36,20,36,24],[36,25,36,27],[36,28,36,30],[36,31,36,35],[35,2,35,7],[35,8,35,19],[35,20,35,24],[35,25,35,27],[35,28,35,30],[35,31,35,35],[34,2,34,7],[34,8,34,19],[34,20,34,24],[34,25,34,27],[34,28,34,30],[34,31,34,35],[33,2,33,7],[33,8,33,19],[33,20,33,24],[33,25,33,27],[33,28,33,30],[33,31,33,35],[32,2,32,7],[32,8,32,19],[32,20,32,24],[32,25,32,27],[32,28,32,30],[32,31,32,35],[31,2,31,7],[31,8,31,19],[31,20,31,24],[31,25,31,27],[31,28,31,30],[31,31,31,35],[30,2,30,7],[30,8,30,19],[30,20,30,24],[30,25,30,27],[30,28,30,30],[30,31,30,35],[29,2,29,7],[29,8,29,19],[29,20,29,24],[29,25,29,27],[29,28,29,30],[29,31,29,35],[28,2,28,7],[28,8,28,19],[28,20,28,24],[28,25,28,27],[28,28,28,30],[28,31,28,35],[27,2,27,7],[27,8,27,19],[27,20,27,24],[27,25,27,27],[27,28,27,30],[27,31,27,35],[26,2,26,7],[26,8,26,19],[26,20,26,24],[26,25,26,27],[26,28,26,30],[26,31,26,35],[25,2,25,7],[25,8,25,19],[25,20,25,24],[25,25,25,27],[25,28,25,30],[25,31,25,35],[24,2,24,7],[24,8,24,19],[24,20,24,24],[24,25,24,27],[24,28,24,30],[24,31,24,35],[23,2,23,7],[23,8,23,19],[23,20,23,24],[23,25,23,27],[23,28,23,30],[23,31,23,35],[22,2,22,7],[22,8,22,19],[22,20,22,24],[22,25,22,27],[22,28,22,30],[22,31,22,35],[21,2,21,7],[21,8,21,19],[21,20,21,24],[21,25,21,27],[21,28,21,30],[21,31,21,35],[2,29,2,35],[3,29,3,35],[5,2,6,35],[11,22,11,35],[8,17,9,19],[8,2,9,16],[20,2,20,7],[20,8,20,19],[20,20,20,24],[20,25,20,27],[20,28,20,30],[20,31,20,35],[13,24,13,35],[14,24,14,35],[15,24,15,28],[15,31,15,35],[14,2,15,3],[14,4,15,19],[17,2,18,7],[17,8,18,17],[17,18,18,19]]}
[]
[]
[null,null,null,null,null,null,null,null,null,null,null,null,null,null,null,null,null,null,null,null,null,null,null,null,null,"発行日：",null,null,null,{"$f":"TODAY()","v":"2024-03-26"},null,null,null,null,null,null,null,null,null,"ID"]
[null,null,null,null,null,null,null,null,null,null,null,null,null,null,null,null,null,null,null,null,null,null,null,null,null,"納品書番号：",null,null,null,{"$f":"見積書!AN4&AN6&\"-1\"","v":"AA45377-1"},null,null,null,null,null,null,null,null,null,{"$f":"見積書!AN4","v":"AA"}]
[null,null,null,null,null,null,null,null,null,null,null,null,null,null,null,null,null,null,null,null,null,null,null,null,null,null,null,null,null,null,null,null,null,null,null,null,null,null,null,"作成日付"]
[null,null,"納品書",null,null,null,null,null,null,null,null,null,null,null,null,null,null,null,null,null,null,null,null,null,null,null,null,null,null,null,null,null,null,null,null,null,null,null,null,{"$f":"TODAY()","v":"2024-03-26"}]
[]
[]
[null,null,{"$f":"見積書!C9","v":"●●"},null,null,null,null,null,null,null,null,null,null,null,null,null,null,{"$f":"見積書!R9","v":"御中"}]
[]
[]
[null,null,"下記の通り、納品いたしました。",null,null,null,null,null,null,null,null,null,null,null,null,null,null,null,null,null,null,null,{"$f":"見積書!W11","v":"株式会社サンプル"}]
[null,null,null,null,null,null,null,null,null,null,null,null,null,null,null,null,null,null,null,null,null,null,{"$f":"見積書!W12","v":"サンプル事業部　サンプル太郎"}]
[null,null,null,null,null,null,null,null,null,null,null,null,null,null,null,null,null,null,null,null,null,null,"住所：",null,{"$f":"見積書!Y13","v":"〒000-0000"}]
[null,null,"件名：",null,{"$f":"見積書!E15","v":"▲▲"},null,null,null,null,null,null,null,null,null,null,null,null,null,null,null,null,null,null,null,{"$f":"見積書!Y14","v":"サンプル県サンプル市サンプル0-0"}]
[null,null,null,null,null,null,null,null,null,null,null,null,null,null,null,null,null,null,null,null,null,null,"TEL：",null,{"$f":"見積書!Y15","v":"0000-00-0000"},null,null,null,null,"FAX：",null,{"$f":"見積書!AF15","v":"0000-00-0000"}]
[null,null,null,null,null,null,null,null,null,null,null,null,null,null,null,null,null,null,null,null,null,null,"登録番号：",null,null,null,{"$f":"見積書!AA16","v":"T0-0000-0000-0000"}]
[null,null,"合計金額：",null,null,null,null,null,{"$f":"AF44","v":0},null,null,null,null,null,null,null,null,null,"（税込）"]
[]
[]
[null,null,{"$f":"見積書!C21","v":"分類"},null,null,null,null,null,{"$f":"IF(見積書!I21<>\"\",見積書!I21,\"\")","v":"項目名"},null,null,null,null,null,{"$f":"IF(見積書!O21<>\"\",見積書!O21,\"\")","v":""},null,null,null,null,null,{"$f":"IF(見積書!U21<>\"\",見積書!U21,\"\")","v":"単価"},null,null,null,null,{"$f":"IF(見積書!Z21<>\"\",見積書!Z21,\"\")","v":"数量"},null,null,{"$f":"IF(見積書!AC21<>\"\",見積書!AC21,\"\")","v":"単位"},null,null,{"$f":"IF(見積書!AF21<>\"\",見積書!AF21,\"\")","v":"金額"}]
[null,null,{"$f":"IF(見積書!C22<>\"\",見積書!C22,\"\")","v":"サンプル"},null,null,null,null,null,{"$f":"IF(見積書!I22<>\"\",見積書!I22,\"\")","v":"サンプル"},null,null,null,null,null,{"$f":"IF(見積書!O22<>\"\",見積書!O22,\"\")","v":""},null,null,null,null,null,{"$f":"IF(見積書!U22<>\"\",見積書!U22,\"\")","v":0},null,null,null,null,{"$f":"IF(見積書!Z22<>\"\",見積書!Z22,\"\")","v":0},null,null,{"$f":"IF(見積書!AC22<>\"\",見積書!AC22,\"\")","v":"h"},null,null,{"$f":"IF(見積書!AF22<>\"\",見積書!AF22,\"\")","v":0}]
[null,null,{"$f":"IF(見積書!C23<>\"\",見積書!C23,\"\")","v":""},null,null,null,null,null,{"$f":"IF(見積書!I23<>\"\",見積書!I23,\"\")","v":""},null,null,null,null,null,{"$f":"IF(見積書!O23<>\"\",見積書!O23,\"\")","v":""},null,null,null,null,null,{"$f":"IF(見積書!U23<>\"\",見積書!U23,\"\")","v":""},null,null,null,null,{"$f":"IF(見積書!Z23<>\"\",見積書!Z23,\"\")","v":""},null,null,{"$f":"IF(見積書!AC23<>\"\",見積書!AC23,\"\")","v":""},null,null,{"$f":"IF(見積書!AF23<>\"\",見積書!AF23,\"\")","v":""}]
[null,null,{"$f":"IF(見積書!C24<>\"\",見積書!C24,\"\")","v":""},null,null,null,null,null,{"$f":"IF(見積書!I24<>\"\",見積書!I24,\"\")","v":""},null,null,null,null,null,{"$f":"IF(見積書!O24<>\"\",見積書!O24,\"\")","v":""},null,null,null,null,null,{"$f":"IF(見積書!U24<>\"\",見積書!U24,\"\")","v":""},null,null,null,null,{"$f":"IF(見積書!Z24<>\"\",見積書!Z24,\"\")","v":""},null,null,{"$f":"IF(見積書!AC24<>\"\",見積書!AC24,\"\")","v":""},null,null,{"$f":"IF(見積書!AF24<>\"\",見積書!AF24,\"\")","v":""}]
[null,null,{"$f":"IF(見積書!C25<>\"\",見積書!C25,\"\")","v":""},null,null,null,null,null,{"$f":"IF(見積書!I25<>\"\",見積書!I25,\"\")","v":""},null,null,null,null,null,{"$f":"IF(見積書!O25<>\"\",見積書!O25,\"\")","v":""},null,null,null,null,null,{"$f":"IF(見積書!U25<>\"\",見積書!U25,\"\")","v":""},null,null,null,null,{"$f":"IF(見積書!Z25<>\"\",見積書!Z25,\"\")","v":""},null,null,{"$f":"IF(見積書!AC25<>\"\",見積書!AC25,\"\")","v":""},null,null,{"$f":"IF(見積書!AF25<>\"\",見積書!AF25,\"\")","v":""}]
[null,null,{"$f":"IF(見積書!C26<>\"\",見積書!C26,\"\")","v":""},null,null,null,null,null,{"$f":"IF(見積書!I26<>\"\",見積書!I26,\"\")","v":""},null,null,null,null,null,{"$f":"IF(見積書!O26<>\"\",見積書!O26,\"\")","v":""},null,null,null,null,null,{"$f":"IF(見積書!U26<>\"\",見積書!U26,\"\")","v":""},null,null,null,null,{"$f":"IF(見積書!Z26<>\"\",見積書!Z26,\"\")","v":""},null,null,{"$f":"IF(見積書!AC26<>\"\",見積書!AC26,\"\")","v":""},null,null,{"$f":"IF(見積書!AF26<>\"\",見積書!AF26,\"\")","v":""}]
[null,null,{"$f":"IF(見積書!C27<>\"\",見積書!C27,\"\")","v":""},null,null,null,null,null,{"$f":"IF(見積書!I27<>\"\",見積書!I27,\"\")","v":""},null,null,null,null,null,{"$f":"IF(見積書!O27<>\"\",見積書!O27,\"\")","v":""},null,null,null,null,null,{"$f":"IF(見積書!U27<>\"\",見積書!U27,\"\")","v":""},null,null,null,null,{"$f":"IF(見積書!Z27<>\"\",見積書!Z27,\"\")","v":""},null,null,{"$f":"IF(見積書!AC27<>\"\",見積書!AC27,\"\")","v":""},null,null,{"$f":"IF(見積書!AF27<>\"\",見積書!AF27,\"\")","v":""}]
[null,null,{"$f":"IF(見積書!C28<>\"\",見積書!C28,\"\")","v":""},null,null,null,null,null,{"$f":"IF(見積書!I28<>\"\",見積書!I28,\"\")","v":""},null,null,null,null,null,{"$f":"IF(見積書!O28<>\"\",見積書!O28,\"\")","v":""},null,null,null,null,null,{"$f":"IF(見積書!U28<>\"\",見積書!U28,\"\")","v":""},null,null,null,null,{"$f":"IF(見積書!Z28<>\"\",見積書!Z28,\"\")","v":""},null,null,{"$f":"IF(見積書!AC28<>\"\",見積書!AC28,\"\")","v":""},null,null,{"$f":"IF(見積書!AF28<>\"\",見積書!AF28,\"\")","v":""}]
[null,null,{"$f":"IF(見積書!C29<>\"\",見積書!C29,\"\")","v":""},null,null,null,null,null,{"$f":"IF(見積書!I29<>\"\",見積書!I29,\"\")","v":""},null,null,null,null,null,{"$f":"IF(見積書!O29<>\"\",見積書!O29,\"\")","v":""},null,null,null,null,null,{"$f":"IF(見積書!U29<>\"\",見積書!U29,\"\")","v":""},null,null,null,null,{"$f":"IF(見積書!Z29<>\"\",見積書!Z29,\"\")","v":""},null,null,{"$f":"IF(見積書!AC29<>\"\",見積書!AC29,\"\")","v":""},null,null,{"$f":"IF(見積書!AF29<>\"\",見積書!AF29,\"\")","v":""}]
[null,null,{"$f":"IF(見積書!C30<>\"\",見積書!C30,\"\")","v":""},null,null,null,null,null,{"$f":"IF(見積書!I30<>\"\",見積書!I30,\"\")","v":""},null,null,null,null,null,{"$f":"IF(見積書!O30<>\"\",見積書!O30,\"\")","v":""},null,null,null,null,null,{"$f":"IF(見積書!U30<>\"\",見積書!U30,\"\")","v":""},null,null,null,null,{"$f":"IF(見積書!Z30<>\"\",見積書!Z30,\"\")","v":""},null,null,{"$f":"IF(見積書!AC30<>\"\",見積書!AC30,\"\")","v":""},null,null,{"$f":"IF(見積書!AF30<>\"\",見積書!AF30,\"\")","v":""}]
[null,null,{"$f":"IF(見積書!C31<>\"\",見積書!C31,\"\")","v":""},null,null,null,null,null,{"$f":"IF(見積書!I31<>\"\",見積書!I31,\"\")","v":""},null,null,null,null,null,{"$f":"IF(見積書!O31<>\"\",見積書!O31,\"\")","v":""},null,null,null,null,null,{"$f":"IF(見積書!U31<>\"\",見積書!U31,\"\")","v":""},null,null,null,null,{"$f":"IF(見積書!Z31<>\"\",見積書!Z31,\"\")","v":""},null,null,{"$f":"IF(見積書!AC31<>\"\",見積書!AC31,\"\")","v":""},null,null,{"$f":"IF(見積書!AF31<>\"\",見積書!AF31,\"\")","v":""}]
[null,null,{"$f":"IF(見積書!C32<>\"\",見積書!C32,\"\")","v":""},null,null,null,null,null,{"$f":"IF(見積書!I32<>\"\",見積書!I32,\"\")","v":""},null,null,null,null,null,{"$f":"IF(見積書!O32<>\"\",見積書!O32,\"\")","v":""},null,null,null,null,null,{"$f":"IF(見積書!U32<>\"\",見積書!U32,\"\")","v":""},null,null,null,null,{"$f":"IF(見積書!Z32<>\"\",見積書!Z32,\"\")","v":""},null,null,{"$f":"IF(見積書!AC32<>\"\",見積書!AC32,\"\")","v":""},null,null,{"$f":"IF(見積書!AF32<>\"\",見積書!AF32,\"\")","v":""}]
[null,null,{"$f":"IF(見積書!C33<>\"\",見積書!C33,\"\")","v":""},null,null,null,null,null,{"$f":"IF(見積書!I33<>\"\",見積書!I33,\"\")","v":""},null,null,null,null,null,{"$f":"IF(見積書!O33<>\"\",見積書!O33,\"\")","v":""},null,null,null,null,null,{"$f":"IF(見積書!U33<>\"\",見積書!U33,\"\")","v":""},null,null,null,null,{"$f":"IF(見積書!Z33<>\"\",見積書!Z33,\"\")","v":""},null,null,{"$f":"IF(見積書!AC33<>\"\",見積書!AC33,\"\")","v":""},null,null,{"$f":"IF(見積書!AF33<>\"\",見積書!AF33,\"\")","v":""}]
[null,null,{"$f":"IF(見積書!C34<>\"\",見積書!C34,\"\")","v":""},null,null,null,null,null,{"$f":"IF(見積書!I34<>\"\",見積書!I34,\"\")","v":""},null,null,null,null,null,{"$f":"IF(見積書!O34<>\"\",見積書!O34,\"\")","v":""},null,null,null,null,null,{"$f":"IF(見積書!U34<>\"\",見積書!U34,\"\")","v":""},null,null,null,null,{"$f":"IF(見積書!Z34<>\"\",見積書!Z34,\"\")","v":""},null,null,{"$f":"IF(見積書!AC34<>\"\",見積書!AC34,\"\")","v":""},null,null,{"$f":"IF(見積書!AF34<>\"\",見積書!AF34,\"\")","v":""}]
[null,null,{"$f":"IF(見積書!C35<>\"\",見積書!C35,\"\")","v":""},null,null,null,null,null,{"$f":"IF(見積書!I35<>\"\",見積書!I35,\"\")","v":""},null,null,null,null,null,{"$f":"IF(見積書!O35<>\"\",見積書!O35,\"\")","v":""},null,null,null,null,null,{"$f":"IF(見積書!U35<>\"\",見積書!U35,\"\")","v":""},null,null,null,null,{"$f":"IF(見積書!Z35<>\"\",見積書!Z35,\"\")","v":""},null,null,{"$f":"IF(見積書!AC35<>\"\",見積書!AC35,\"\")","v":""},null,null,{"$f":"IF(見積書!AF35<>\"\",見積書!AF35,\"\")","v":""}]
[null,null,{"$f":"IF(見積書!C36<>\"\",見積書!C36,\"\")","v":""},null,null,null,null,null,{"$f":"IF(見積書!I36<>\"\",見積書!I36,\"\")","v":""},null,null,null,null,null,{"$f":"IF(見積書!O36<>\"\",見積書!O36,\"\")","v":""},null,null,null,null,null,{"$f":"IF(見積書!U36<>\"\",見積書!U36,\"\")","v":""},null,null,null,null,{"$f":"IF(見積書!Z36<>\"\",見積書!Z36,\"\")","v":""},null,null,{"$f":"IF(見積書!AC36<>\"\",見積書!AC36,\"\")","v":""},null,null,{"$f":"IF(見積書!AF36<>\"\",見積書!AF36,\"\")","v":""}]
[null,null,{"$f":"IF(見積書!C37<>\"\",見積書!C37,\"\")","v":""},null,null,null,null,null,{"$f":"IF(見積書!I37<>\"\",見積書!I37,\"\")","v":""},null,null,null,null,null,{"$f":"IF(見積書!O37<>\"\",見積書!O37,\"\")","v":""},null,null,null,null,null,{"$f":"IF(見積書!U37<>\"\",見積書!U37,\"\")","v":""},null,null,null,null,{"$f":"IF(見積書!Z37<>\"\",見積書!Z37,\"\")","v":""},null,null,{"$f":"IF(見積書!AC37<>\"\",見積書!AC37,\"\")","v":""},null,null,{"$f":"IF(見積書!AF37<>\"\",見積書!AF37,\"\")","v":""}]
[null,null,{"$f":"IF(見積書!C38<>\"\",見積書!C38,\"\")","v":""},null,null,null,null,null,{"$f":"IF(見積書!I38<>\"\",見積書!I38,\"\")","v":""},null,null,null,null,null,{"$f":"IF(見積書!O38<>\"\",見積書!O38,\"\")","v":""},null,null,null,null,null,{"$f":"IF(見積書!U38<>\"\",見積書!U38,\"\")","v":""},null,null,null,null,{"$f":"IF(見積書!Z38<>\"\",見積書!Z38,\"\")","v":""},null,null,{"$f":"IF(見積書!AC38<>\"\",見積書!AC38,\"\")","v":""},null,null,{"$f":"IF(見積書!AF38<>\"\",見積書!AF38,\"\")","v":""}]
[null,null,{"$f":"IF(見積書!C39<>\"\",見積書!C39,\"\")","v":""},null,null,null,null,null,{"$f":"IF(見積書!I39<>\"\",見積書!I39,\"\")","v":""},null,null,null,null,null,{"$f":"IF(見積書!O39<>\"\",見積書!O39,\"\")","v":""},null,null,null,null,null,{"$f":"IF(見積書!U39<>\"\",見積書!U39,\"\")","v":""},null,null,null,null,{"$f":"IF(見積書!Z39<>\"\",見積書!Z39,\"\")","v":""},null,null,{"$f":"IF(見積書!AC39<>\"\",見積書!AC39,\"\")","v":""},null,null,{"$f":"IF(見積書!AF39<>\"\",見積書!AF39,\"\")","v":""}]
[null,null,{"$f":"IF(見積書!C40<>\"\",見積書!C40,\"\")","v":""},null,null,null,null,null,{"$f":"IF(見積書!I40<>\"\",見積書!I40,\"\")","v":""},null,null,null,null,null,{"$f":"IF(見積書!O40<>\"\",見積書!O40,\"\")","v":""},null,null,null,null,null,{"$f":"IF(見積書!U40<>\"\",見積書!U40,\"\")","v":""},null,null,null,null,{"$f":"IF(見積書!Z40<>\"\",見積書!Z40,\"\")","v":""},null,null,{"$f":"IF(見積書!AC40<>\"\",見積書!AC40,\"\")","v":""},null,null,{"$f":"IF(見積書!AF40<>\"\",見積書!AF40,\"\")","v":""}]
[null,null,{"$f":"IF(見積書!C41<>\"\",見積書!C41,\"\")","v":""},null,null,null,null,null,{"$f":"IF(見積書!I41<>\"\",見積書!I41,\"\")","v":""},null,null,null,null,null,{"$f":"IF(見積書!O41<>\"\",見積書!O41,\"\")","v":""},null,null,null,null,null,{"$f":"IF(見積書!U41<>\"\",見積書!U41,\"\")","v":""},null,null,null,null,{"$f":"IF(見積書!Z41<>\"\",見積書!Z41,\"\")","v":""},null,null,{"$f":"IF(見積書!AC41<>\"\",見積書!AC41,\"\")","v":""},null,null,{"$f":"IF(見積書!AF41<>\"\",見積書!AF41,\"\")","v":""}]
[null,null,null,null,null,null,null,null,null,null,null,null,null,null,null,null,null,null,null,null,null,null,null,null,null,"小　　計",null,null,null,null,null,{"$f":"SUM(AF22:AJ41)","v":0}]
[null,null,null,null,null,null,null,null,null,null,null,null,null,null,null,null,null,null,null,null,null,null,null,null,null,{"$f":"\"消費税（\"&設定!C8&\"%）\"","v":"消費税（10%）"},null,null,null,null,null,{"$f":"AF42*設定!C8/100","v":0}]
[null,null,null,null,null,null,null,null,null,null,null,null,null,null,null,null,null,null,null,null,null,null,null,null,null,"合　　計",null,null,null,null,null,{"$f":"SUM(AF42:AJ43)","v":0}]
[]
[null,null,"≪備考≫"]

{"sheet":"請求書","index":2,"n_rows":47,"n_cols":44,"rows_kept":47,"cut":false,"hidden":false,"merged":[[50,2,50,35],[10,43,34,63],[2,29,2,35],[3,29,3,35],[5,2,6,35],[8,2,9,16],[8,17,9,19],[9,22,9,35],[11,24,11,35],[12,24,12,35],[13,24,13,28],[13,31,13,35],[16,22,16,24],[16,25,16,35],[17,2,18,7],[17,8,18,17],[17,18,18,19],[17,22,17,24],[17,25,17,35],[18,25,18,35],[20,2,20,7],[20,8,20,19],[20,20,20,24],[20,25,20,27],[20,28,20,30],[20,31,20,35],[21,2,21,7],[21,8,21,19],[21,20,21,24],[21,25,21,27],[21,28,21,30],[21,31,21,35],[22,2,22,7],[22,8,22,19],[22,20,22,24],[22,25,22,27],[22,28,22,30],[22,31,22,35],[23,2,23,7],[23,8,23,19],[23,20,23,24],[23,25,23,27],[23,28,23,30],[23,31,23,35],[24,2,24,7],[24,8,24,19],[24,20,24,24],[24,25,24,27],[24,28,24,30],[24,31,24,35],[26,2,26,7],[26,8,26,19],[26,20,26,24],[26,25,26,27],[26,28,26,30],[26,31,26,35],[25,2,25,7],[25,8,25,19],[25,20,25,24],[25,25,25,27],[25,28,25,30],[25,31,25,35],[27,2,27,7],[27,8,27,19],[27,20,27,24],[27,25,27,27],[27,28,27,30],[27,31,27,35],[28,2,28,7],[28,8,28,19],[28,20,28,24],[28,25,28,27],[28,28,28,30],[28,31,28,35],[29,2,29,7],[29,8,29,19],[29,20,29,24],[29,25,29,27],[29,28,29,30],[29,31,29,35],[30,2,30,7],[30,8,30,19],[30,20,30,24],[30,25,30,27],[30,28,30,30],[30,31,30,35],[31,2,31,7],[31,8,31,19],[31,20,31,24],[31,25,31,27],[31,28,31,30],[31,31,31,35],[32,2,32,7],[32,8,32,19],[32,20,32,24],[32,25,32,27],[32,28,32,30],[32,31,32,35],[33,2,33,7],[33,8,33,19],[33,20,33,24],[33,25,33,27],[33,28,33,30],[33,31,33,35],[36,2,36,7],[36,8,36,19],[36,20,36,24],[36,25,36,27],[36,28,36,30],[36,31,36,35],[34,2,34,7],[34,8,34,19],[34,20,34,24],[34,25,34,27],[34,28,34,30],[34,31,34,35],[35,2,35,7],[35,8,35,19],[35,20,35,24],[35,25,35,27],[35,28,35,30],[35,31,35,35],[37,28,37,30],[37,31,37,35],[38,2,38,7],[38,8,38,19],[38,20,38,24],[38,25,38,27],[38,28,38,30],[38,31,38,35],[39,2,39,7],[39,8,39,19],[39,20,39,24],[39,25,39,27],[39,28,39,30],[39,31,39,35],[14,2,15,3],[14,4,15,19],[49,2,49,35],[51,2,51,35],[52,2,52,35],[41,25,41,30],[41,31,41,35],[42,25,42,30],[42,31,42,35],[43,25,43,30],[43,31,43,35],[46,2,46,35],[47,2,47,35],[48,2,48,35],[40,2,40,7],[40,8,40,19],[40,20,40,24],[40,25,40,27],[40,28,40,30],[40,31,40,35],[37,2,37,7],[37,8,37,19],[37,20,37,24],[37,25,37,27]]}
[]
[]
[null,null,null,null,null,null,null,null,null,null,null,null,null,null,null,null,null,null,null,null,null,null,null,null,null,"発行日：",null,null,null,{"$f":"TODAY()","v":"2024-03-26"},null,null,null,null,null,null,null,null,null,"ID"]
[null,null,null,null,null,null,null,null,null,null,null,null,null,null,null,null,null,null,null,null,null,null,null,null,null,"請求書番号：",null,null,null,{"$f":"見積書!AN4&AN6&\"-1\"","v":"AA45377-1"},null,null,null,null,null,null,null,null,null,{"$f":"見積書!AN4","v":"AA"}]
[null,null,null,null,null,null,null,null,null,null,null,null,null,null,null,null,null,null,null,null,null,null,null,null,null,null,null,null,null,null,null,null,null,null,null,null,null,null,null,"作成日付"]
[null,null,"請求書",null,null,null,null,null,null,null,null,null,null,null,null,null,null,null,null,null,null,null,null,null,null,null,null,null,null,null,null,null,null,null,null,null,null,null,null,{"$f":"TODAY()","v":"2024-03-26"}]
[]
[]
[null,null,{"$f":"見積書!C9","v":"●●"},null,null,null,null,null,null,null,null,null,null,null,null,null,null,{"$f":"見積書!R9","v":"御中"}]
[null,null,null,null,null,null,null,null,null,null,null,null,null,null,null,null,null,null,null,null,null,null,{"$f":"見積書!W11","v":"株式会社サンプル"}]
[null,null,null,null,null,null,null,null,null,null,null,null,null,null,null,null,null,null,null,null,null,null,{"$f":"見積書!W12","v":"サンプル事業部　サンプル太郎"},null,null,null,null,null,null,null,null,null,null,null,null,null,null,null,null,null,null,null,null,"請求書"]
[null,null,"下記の通り、ご請求させていただきます。",null,null,null,null,null,null,null,null,null,null,null,null,null,null,null,null,null,null,null,"住所：",null,{"$f":"見積書!Y13","v":"〒000-0000"}]
[null,null,null,null,null,null,null,null,null,null,null,null,null,null,null,null,null,null,null,null,null,null,null,null,{"$f":"見積書!$Y$14","v":"サンプル県サンプル市サンプル0-0"}]
[null,null,null,null,null,null,null,null,null,null,null,null,null,null,null,null,null,null,null,null,null,null,"TEL：",null,{"$f":"見積書!$Y$15","v":"0000-00-0000"},null,null,null,null,"FAX：",null,{"$f":"見積書!AF15","v":"0000-00-0000"}]
[null,null,"件名：",null,{"$f":"見積書!E15","v":"▲▲"},null,null,null,null,null,null,null,null,null,null,null,null,null,null,null,null,null,"登録番号：",null,null,null,{"$f":"見積書!AA16","v":"T0-0000-0000-0000"}]
[]
[null,null,null,null,null,null,null,null,null,null,null,null,null,null,null,null,null,null,null,null,null,null,"支払期限：",null,null,{"$f":"TEXT(NOW()+35,\"ggge年m月\")&\"末日\"","v":"令和6年4月末日"}]
[null,null,"合計金額：",null,null,null,null,null,{"$f":"AF44","v":0},null,null,null,null,null,null,null,null,null,"（税込）",null,null,null,"振込先：",null,null,"サンプル銀行 サンプル支店"]
[null,null,null,null,null,null,null,null,null,null,null,null,null,null,null,null,null,null,null,null,null,null,null,null,null,"普通　0000000　ｶ) ｻﾝﾌﾟﾙ"]
[]
[null,null,{"$f":"見積書!C21","v":"分類"},null,null,null,null,null,{"$f":"見積書!I21","v":"項目名"},null,null,null,null,null,null,null,null,null,null,null,{"$f":"見積書!U21","v":"単価"},null,null,null,null,{"$f":"見積書!Z21","v":"数量"},null,null,"単位",null,null,{"$f":"見積書!AF21","v":"金額"}]
[null,null,{"$f":"IF(見積書!C22<>\"\",見積書!C22,\"\")","v":"サンプル"},null,null,null,null,null,{"$f":"IF(見積書!I22<>\"\",見積書!I22,\"\")","v":"サンプル"},null,null,null,null,null,{"$f":"IF(見積書!O22<>\"\",見積書!O22,\"\")","v":""},null,null,null,null,null,{"$f":"IF(見積書!U22<>\"\",見積書!U22,\"\")","v":0},null,null,null,null,{"$f":"IF(見積書!Z22<>\"\",見積書!Z22,\"\")","v":0},null,null,{"$f":"IF(見積書!AC22<>\"\",見積書!AC22,\"\")","v":"h"},null,null,{"$f":"IF(見積書!AF22<>\"\",見積書!AF22,\"\")","v":0}]
[null,null,{"$f":"IF(見積書!C23<>\"\",見積書!C23,\"\")","v":""},null,null,null,null,null,{"$f":"IF(見積書!I23<>\"\",見積書!I23,\"\")","v":""},null,null,null,null,null,{"$f":"IF(見積書!O23<>\"\",見積書!O23,\"\")","v":""},null,null,null,null,null,{"$f":"IF(見積書!U23<>\"\",見積書!U23,\"\")","v":""},null,null,null,null,{"$f":"IF(見積書!Z23<>\"\",見積書!Z23,\"\")","v":""},null,null,{"$f":"IF(見積書!AC23<>\"\",見積書!AC23,\"\")","v":""},null,null,{"$f":"IF(見積書!AF23<>\"\",見積書!AF23,\"\")","v":""}]
[null,null,{"$f":"IF(見積書!C24<>\"\",見積書!C24,\"\")","v":""},null,null,null,null,null,{"$f":"IF(見積書!I24<>\"\",見積書!I24,\"\")","v":""},null,null,null,null,null,{"$f":"IF(見積書!O24<>\"\",見積書!O24,\"\")","v":""},null,null,null,null,null,{"$f":"IF(見積書!U24<>\"\",見積書!U24,\"\")","v":""},null,null,null,null,{"$f":"IF(見積書!Z24<>\"\",見積書!Z24,\"\")","v":""},null,null,{"$f":"IF(見積書!AC24<>\"\",見積書!AC24,\"\")","v":""},null,null,{"$f":"IF(見積書!AF24<>\"\",見積書!AF24,\"\")","v":""}]
[null,null,{"$f":"IF(見積書!C25<>\"\",見積書!C25,\"\")","v":""},null,null,null,null,null,{"$f":"IF(見積書!I25<>\"\",見積書!I25,\"\")","v":""},null,null,null,null,null,{"$f":"IF(見積書!O25<>\"\",見積書!O25,\"\")","v":""},null,null,null,null,null,{"$f":"IF(見積書!U25<>\"\",見積書!U25,\"\")","v":""},null,null,null,null,{"$f":"IF(見積書!Z25<>\"\",見積書!Z25,\"\")","v":""},null,null,{"$f":"IF(見積書!AC25<>\"\",見積書!AC25,\"\")","v":""},null,null,{"$f":"IF(見積書!AF25<>\"\",見積書!AF25,\"\")","v":""}]
[null,null,{"$f":"IF(見積書!C26<>\"\",見積書!C26,\"\")","v":""},null,null,null,null,null,{"$f":"IF(見積書!I26<>\"\",見積書!I26,\"\")","v":""},null,null,null,null,null,{"$f":"IF(見積書!O26<>\"\",見積書!O26,\"\")","v":""},null,null,null,null,null,{"$f":"IF(見積書!U26<>\"\",見積書!U26,\"\")","v":""},null,null,null,null,{"$f":"IF(見積書!Z26<>\"\",見積書!Z26,\"\")","v":""},null,null,{"$f":"IF(見積書!AC26<>\"\",見積書!AC26,\"\")","v":""},null,null,{"$f":"IF(見積書!AF26<>\"\",見積書!AF26,\"\")","v":""}]
[null,null,{"$f":"IF(見積書!C27<>\"\",見積書!C27,\"\")","v":""},null,null,null,null,null,{"$f":"IF(見積書!I27<>\"\",見積書!I27,\"\")","v":""},null,null,null,null,null,{"$f":"IF(見積書!O27<>\"\",見積書!O27,\"\")","v":""},null,null,null,null,null,{"$f":"IF(見積書!U27<>\"\",見積書!U27,\"\")","v":""},null,null,null,null,{"$f":"IF(見積書!Z27<>\"\",見積書!Z27,\"\")","v":""},null,null,{"$f":"IF(見積書!AC27<>\"\",見積書!AC27,\"\")","v":""},null,null,{"$f":"IF(見積書!AF27<>\"\",見積書!AF27,\"\")","v":""}]
[null,null,{"$f":"IF(見積書!C28<>\"\",見積書!C28,\"\")","v":""},null,null,null,null,null,{"$f":"IF(見積書!I28<>\"\",見積書!I28,\"\")","v":""},null,null,null,null,null,{"$f":"IF(見積書!O28<>\"\",見積書!O28,\"\")","v":""},null,null,null,null,null,{"$f":"IF(見積書!U28<>\"\",見積書!U28,\"\")","v":""},null,null,null,null,{"$f":"IF(見積書!Z28<>\"\",見積書!Z28,\"\")","v":""},null,null,{"$f":"IF(見積書!AC28<>\"\",見積書!AC28,\"\")","v":""},null,null,{"$f":"IF(見積書!AF28<>\"\",見積書!AF28,\"\")","v":""}]
[null,null,{"$f":"IF(見積書!C29<>\"\",見積書!C29,\"\")","v":""},null,null,null,null,null,{"$f":"IF(見積書!I29<>\"\",見積書!I29,\"\")","v":""},null,null,null,null,null,{"$f":"IF(見積書!O29<>\"\",見積書!O29,\"\")","v":""},null,null,null,null,null,{"$f":"IF(見積書!U29<>\"\",見積書!U29,\"\")","v":""},null,null,null,null,{"$f":"IF(見積書!Z29<>\"\",見積書!Z29,\"\")","v":""},null,null,{"$f":"IF(見積書!AC29<>\"\",見積書!AC29,\"\")","v":""},null,null,{"$f":"IF(見積書!AF29<>\"\",見積書!AF29,\"\")","v":""}]
[null,null,{"$f":"IF(見積書!C30<>\"\",見積書!C30,\"\")","v":""},null,null,null,null,null,{"$f":"IF(見積書!I30<>\"\",見積書!I30,\"\")","v":""},null,null,null,null,null,{"$f":"IF(見積書!O30<>\"\",見積書!O30,\"\")","v":""},null,null,null,null,null,{"$f":"IF(見積書!U30<>\"\",見積書!U30,\"\")","v":""},null,null,null,null,{"$f":"IF(見積書!Z30<>\"\",見積書!Z30,\"\")","v":""},null,null,{"$f":"IF(見積書!AC30<>\"\",見積書!AC30,\"\")","v":""},null,null,{"$f":"IF(見積書!AF30<>\"\",見積書!AF30,\"\")","v":""}]
[null,null,{"$f":"IF(見積書!C31<>\"\",見積書!C31,\"\")","v":""},null,null,null,null,null,{"$f":"IF(見積書!I31<>\"\",見積書!I31,\"\")","v":""},null,null,null,null,null,{"$f":"IF(見積書!O31<>\"\",見積書!O31,\"\")","v":""},null,null,null,null,null,{"$f":"IF(見積書!U31<>\"\",見積書!U31,\"\")","v":""},null,null,null,null,{"$f":"IF(見積書!Z31<>\"\",見積書!Z31,\"\")","v":""},null,null,{"$f":"IF(見積書!AC31<>\"\",見積書!AC31,\"\")","v":""},null,null,{"$f":"IF(見積書!AF31<>\"\",見積書!AF31,\"\")","v":""}]
[null,null,{"$f":"IF(見積書!C32<>\"\",見積書!C32,\"\")","v":""},null,null,null,null,null,{"$f":"IF(見積書!I32<>\"\",見積書!I32,\"\")","v":""},null,null,null,null,null,{"$f":"IF(見積書!O32<>\"\",見積書!O32,\"\")","v":""},null,null,null,null,null,{"$f":"IF(見積書!U32<>\"\",見積書!U32,\"\")","v":""},null,null,null,null,{"$f":"IF(見積書!Z32<>\"\",見積書!Z32,\"\")","v":""},null,null,{"$f":"IF(見積書!AC32<>\"\",見積書!AC32,\"\")","v":""},null,null,{"$f":"IF(見積書!AF32<>\"\",見積書!AF32,\"\")","v":""}]
[null,null,{"$f":"IF(見積書!C33<>\"\",見積書!C33,\"\")","v":""},null,null,null,null,null,{"$f":"IF(見積書!I33<>\"\",見積書!I33,\"\")","v":""},null,null,null,null,null,{"$f":"IF(見積書!O33<>\"\",見積書!O33,\"\")","v":""},null,null,null,null,null,{"$f":"IF(見積書!U33<>\"\",見積書!U33,\"\")","v":""},null,null,null,null,{"$f":"IF(見積書!Z33<>\"\",見積書!Z33,\"\")","v":""},null,null,{"$f":"IF(見積書!AC33<>\"\",見積書!AC33,\"\")","v":""},null,null,{"$f":"IF(見積書!AF33<>\"\",見積書!AF33,\"\")","v":""}]
[null,null,{"$f":"IF(見積書!C34<>\"\",見積書!C34,\"\")","v":""},null,null,null,null,null,{"$f":"IF(見積書!I34<>\"\",見積書!I34,\"\")","v":""},null,null,null,null,null,{"$f":"IF(見積書!O34<>\"\",見積書!O34,\"\")","v":""},null,null,null,null,null,{"$f":"IF(見積書!U34<>\"\",見積書!U34,\"\")","v":""},null,null,null,null,{"$f":"IF(見積書!Z34<>\"\",見積書!Z34,\"\")","v":""},null,null,{"$f":"IF(見積書!AC34<>\"\",見積書!AC34,\"\")","v":""},null,null,{"$f":"IF(見積書!AF34<>\"\",見積書!AF34,\"\")","v":""}]
[null,null,{"$f":"IF(見積書!C35<>\"\",見積書!C35,\"\")","v":""},null,null,null,null,null,{"$f":"IF(見積書!I35<>\"\",見積書!I35,\"\")","v":""},null,null,null,null,null,{"$f":"IF(見積書!O35<>\"\",見積書!O35,\"\")","v":""},null,null,null,null,null,{"$f":"IF(見積書!U35<>\"\",見積書!U35,\"\")","v":""},null,null,null,null,{"$f":"IF(見積書!Z35<>\"\",見積書!Z35,\"\")","v":""},null,null,{"$f":"IF(見積書!AC35<>\"\",見積書!AC35,\"\")","v":""},null,null,{"$f":"IF(見積書!AF35<>\"\",見積書!AF35,\"\")","v":""}]
[null,null,{"$f":"IF(見積書!C36<>\"\",見積書!C36,\"\")","v":""},null,null,null,null,null,{"$f":"IF(見積書!I36<>\"\",見積書!I36,\"\")","v":""},null,null,null,null,null,{"$f":"IF(見積書!O36<>\"\",見積書!O36,\"\")","v":""},null,null,null,null,null,{"$f":"IF(見積書!U36<>\"\",見積書!U36,\"\")","v":""},null,null,null,null,{"$f":"IF(見積書!Z36<>\"\",見積書!Z36,\"\")","v":""},null,null,{"$f":"IF(見積書!AC36<>\"\",見積書!AC36,\"\")","v":""},null,null,{"$f":"IF(見積書!AF36<>\"\",見積書!AF36,\"\")","v":""}]
[null,null,{"$f":"IF(見積書!C37<>\"\",見積書!C37,\"\")","v":""},null,null,null,null,null,{"$f":"IF(見積書!I37<>\"\",見積書!I37,\"\")","v":""},null,null,null,null,null,{"$f":"IF(見積書!O37<>\"\",見積書!O37,\"\")","v":""},null,null,null,null,null,{"$f":"IF(見積書!U37<>\"\",見積書!U37,\"\")","v":""},null,null,null,null,{"$f":"IF(見積書!Z37<>\"\",見積書!Z37,\"\")","v":""},null,null,{"$f":"IF(見積書!AC37<>\"\",見積書!AC37,\"\")","v":""},null,null,{"$f":"IF(見積書!AF37<>\"\",見積書!AF37,\"\")","v":""}]
[null,null,{"$f":"IF(見積書!C38<>\"\",見積書!C38,\"\")","v":""},null,null,null,null,null,{"$f":"IF(見積書!I38<>\"\",見積書!I38,\"\")","v":""},null,null,null,null,null,{"$f":"IF(見積書!O38<>\"\",見積書!O38,\"\")","v":""},null,null,null,null,null,{"$f":"IF(見積書!U38<>\"\",見積書!U38,\"\")","v":""},null,null,null,null,{"$f":"IF(見積書!Z38<>\"\",見積書!Z38,\"\")","v":""},null,null,{"$f":"IF(見積書!AC38<>\"\",見積書!AC38,\"\")","v":""},null,null,{"$f":"IF(見積書!AF38<>\"\",見積書!AF38,\"\")","v":""}]
[null,null,{"$f":"IF(見積書!C39<>\"\",見積書!C39,\"\")","v":""},null,null,null,null,null,{"$f":"IF(見積書!I39<>\"\",見積書!I39,\"\")","v":""},null,null,null,null,null,{"$f":"IF(見積書!O39<>\"\",見積書!O39,\"\")","v":""},null,null,null,null,null,{"$f":"IF(見積書!U39<>\"\",見積書!U39,\"\")","v":""},null,null,null,null,{"$f":"IF(見積書!Z39<>\"\",見積書!Z39,\"\")","v":""},null,null,{"$f":"IF(見積書!AC39<>\"\",見積書!AC39,\"\")","v":""},null,null,{"$f":"IF(見積書!AF39<>\"\",見積書!AF39,\"\")","v":""}]
[null,null,{"$f":"IF(見積書!C40<>\"\",見積書!C40,\"\")","v":""},null,null,null,null,null,{"$f":"IF(見積書!I40<>\"\",見積書!I40,\"\")","v":""},null,null,null,null,null,{"$f":"IF(見積書!O40<>\"\",見積書!O40,\"\")","v":""},null,null,null,null,null,{"$f":"IF(見積書!U40<>\"\",見積書!U40,\"\")","v":""},null,null,null,null,{"$f":"IF(見積書!Z40<>\"\",見積書!Z40,\"\")","v":""},null,null,{"$f":"IF(見積書!AC40<>\"\",見積書!AC40,\"\")","v":""},null,null,{"$f":"IF(見積書!AF40<>\"\",見積書!AF40,\"\")","v":""}]
[null,null,{"$f":"IF(見積書!C41<>\"\",見積書!C41,\"\")","v":""},null,null,null,null,null,{"$f":"IF(見積書!I41<>\"\",見積書!I41,\"\")","v":""},null,null,null,null,null,{"$f":"IF(見積書!O41<>\"\",見積書!O41,\"\")","v":""},null,null,null,null,null,{"$f":"IF(見積書!U41<>\"\",見積書!U41,\"\")","v":""},null,null,null,null,{"$f":"IF(見積書!Z41<>\"\",見積書!Z41,\"\")","v":""},null,null,{"$f":"IF(見積書!AC41<>\"\",見積書!AC41,\"\")","v":""},null,null,{"$f":"IF(見積書!AF41<>\"\",見積書!AF41,\"\")","v":""}]
[null,null,null,null,null,null,null,null,null,null,null,null,null,null,null,null,null,null,null,null,null,null,null,null,null,"小　　計",null,null,null,null,null,{"$f":"SUM(AF22:AJ41)","v":0}]
[null,null,null,null,null,null,null,null,null,null,null,null,null,null,null,null,null,null,null,null,null,null,null,null,null,{"$f":"\"消費税（\"&設定!C8&\"%）\"","v":"消費税（10%）"},null,null,null,null,null,{"$f":"AF42*設定!C8/100","v":0}]
[null,null,null,null,null,null,null,null,null,null,null,null,null,null,null,null,null,null,null,null,null,null,null,null,null,"合　　計",null,null,null,null,null,{"$f":"SUM(AF42:AJ43)","v":0}]
[]
[null,null,"≪備考≫"]
[null,null,"振込手数料は、お客様のご負担でお願いいたします。"]

{"sheet":"領収書","index":3,"n_rows":46,"n_cols":44,"rows_kept":46,"cut":false,"hidden":false,"merged":[[50,2,50,35],[10,43,34,63],[46,2,46,35],[47,2,47,35],[48,2,48,35],[49,2,49,35],[51,2,51,35],[52,2,52,35],[41,25,41,30],[41,31,41,35],[42,25,42,30],[42,31,42,35],[43,25,43,30],[43,31,43,35],[40,2,40,7],[40,8,40,19],[40,20,40,24],[40,25,40,27],[40,28,40,30],[40,31,40,35],[39,2,39,7],[39,8,39,19],[39,20,39,24],[39,25,39,27],[39,28,39,30],[39,31,39,35],[38,2,38,7],[38,8,38,19],[38,20,38,24],[38,25,38,27],[38,28,38,30],[38,31,38,35],[37,2,37,7],[37,8,37,19],[37,20,37,24],[37,25,37,27],[37,28,37,30],[37,31,37,35],[36,2,36,7],[36,8,36,19],[36,20,36,24],[36,25,36,27],[36,28,36,30],[36,31,36,35],[35,2,35,7],[35,8,35,19],[35,20,35,24],[35,25,35,27],[35,28,35,30],[35,31,35,35],[34,2,34,7],[34,8,34,19],[34,20,34,24],[34,25,34,27],[34,28,34,30],[34,31,34,35],[33,2,33,7],[33,8,33,19],[33,20,33,24],[33,25,33,27],[33,28,33,30],[33,31,33,35],[32,2,32,7],[32,8,32,19],[32,20,32,24],[32,25,32,27],[32,28,32,30],[32,31,32,35],[31,2,31,7],[31,8,31,19],[31,20,31,24],[31,25,31,27],[31,28,31,30],[31,31,31,35],[30,2,30,7],[30,8,30,19],[30,20,30,24],[30,25,30,27],[30,28,30,30],[30,31,30,35],[29,2,29,7],[29,8,29,19],[29,20,29,24],[29,25,29,27],[29,28,29,30],[29,31,29,35],[28,2,28,7],[28,8,28,19],[28,20,28,24],[28,25,28,27],[28,28,28,30],[28,31,28,35],[27,2,27,7],[27,8,27,19],[27,20,27,24],[27,25,27,27],[27,28,27,30],[27,31,27,35],[26,2,26,7],[26,8,26,19],[26,20,26,24],[26,25,26,27],[26,28,26,30],[26,31,26,35],[25,2,25,7],[25,8,25,19],[25,20,25,24],[25,25,25,27],[25,28,25,30],[25,31,25,35],[24,2,24,7],[24,8,24,19],[24,20,24,24],[24,25,24,27],[24,28,24,30],[24,31,24,35],[23,2,23,7],[23,8,23,19],[23,20,23,24],[23,25,23,27],[23,28,23,30],[23,31,23,35],[22,20,22,24],[22,25,22,27],[22,28,22,30],[22,31,22,35],[21,2,21,7],[21,8,21,19],[21,20,21,24],[21,25,21,27],[21,28,21,30],[21,31,21,35],[22,2,22,7],[22,8,22,19],[2,29,2,35],[3,29,3,35],[5,2,6,35],[8,2,9,16],[8,17,9,19],[13,22,13,35],[17,2,18,7],[17,8,18,17],[17,18,18,19],[20,2,20,7],[20,8,20,19],[20,20,20,24],[20,25,20,27],[20,28,20,30],[20,31,20,35],[15,24,15,35],[16,24,16,35],[17,24,17,28],[17,31,17,35],[14,2,15,3],[14,4,15,19]]}
[]
[]
[null,null,null,null,null,null,null,null,null,null,null,null,null,null,null,null,null,null,null,null,null,null,null,null,null,"発行日：",null,null,null,{"$f":"TODAY()","v":"2024-03-26"},null,null,null,null,null,null,null,null,null,"ID"]
[null,null,null,null,null,null,null,null,null,null,null,null,null,null,null,null,null,null,null,null,null,null,null,null,null,"領収書番号：",null,null,null,{"$f":"見積書!AN4&AN6&\"-1\"","v":"AA45377-1"},null,null,null,null,null,null,null,null,null,{"$f":"見積書!AN4","v":"AA"}]
[null,null,null,null,null,null,null,null,null,null,null,null,null,null,null,null,null,null,null,null,null,null,null,null,null,null,null,null,null,null,null,null,null,null,null,null,null,null,null,"作成日付"]
[null,null,"領収書",null,null,null,null,null,null,null,null,null,null,null,null,null,null,null,null,null,null,null,null,null,null,null,null,null,null,null,null,null,null,null,null,null,null,null,null,{"$f":"TODAY()","v":"2024-03-26"}]
[]
[]
[null,null,{"$f":"見積書!C9","v":"●●"},null,null,null,null,null,null,null,null,null,null,null,null,null,null,{"$f":"見積書!R9","v":"御中"}]
[]
[null,null,null,null,null,null,null,null,null,null,null,null,null,null,null,null,null,null,null,null,null,null,null,null,null,null,null,null,null,null,null,null,null,null,null,null,null,null,null,null,null,null,null,"領収書"]
[null,null,"下記の通り、正に領収いたしました。"]
[]
[null,null,null,null,null,null,null,null,null,null,null,null,null,null,null,null,null,null,null,null,null,null,{"$f":"見積書!W11","v":"株式会社サンプル"}]
[null,null,"件名：",null,{"$f":"見積書!E15","v":"▲▲"},null,null,null,null,null,null,null,null,null,null,null,null,null,null,null,null,null,{"$f":"見積書!W12","v":"サンプル事業部　サンプル太郎"}]
[null,null,null,null,null,null,null,null,null,null,null,null,null,null,null,null,null,null,null,null,null,null,"住所：",null,{"$f":"見積書!Y13","v":"〒000-0000"}]
[null,null,null,null,null,null,null,null,null,null,null,null,null,null,null,null,null,null,null,null,null,null,null,null,{"$f":"見積書!Y14","v":"サンプル県サンプル市サンプル0-0"}]
[null,null,"合計金額：",null,null,null,null,null,{"$f":"AF44","v":0},null,null,null,null,null,null,null,null,null,"（税込）",null,null,null,"TEL：",null,{"$f":"見積書!Y15","v":"0000-00-0000"},null,null,null,null,"FAX：",null,{"$f":"見積書!AF15","v":"0000-00-0000"}]
[null,null,null,null,null,null,null,null,null,null,null,null,null,null,null,null,null,null,null,null,null,null,"登録番号：",null,null,null,{"$f":"見積書!AA16","v":"T0-0000-0000-0000"}]
[]
[null,null,"品番",null,null,null,null,null,"商品名",null,null,null,null,null,null,null,null,null,null,null,"単価",null,null,null,null,"数量",null,null,"単位",null,null,"金額"]
[null,null,{"$f":"IF(見積書!C22<>\"\",見積書!C22,\"\")","v":"サンプル"},null,null,null,null,null,{"$f":"IF(見積書!I22<>\"\",見積書!I22,\"\")","v":"サンプル"},null,null,null,null,null,{"$f":"IF(見積書!O22<>\"\",見積書!O22,\"\")","v":""},null,null,null,null,null,{"$f":"IF(見積書!U22<>\"\",見積書!U22,\"\")","v":0},null,null,null,null,{"$f":"IF(見積書!Z22<>\"\",見積書!Z22,\"\")","v":0},null,null,{"$f":"IF(見積書!AC22<>\"\",見積書!AC22,\"\")","v":"h"},null,null,{"$f":"IF(見積書!AF22<>\"\",見積書!AF22,\"\")","v":0}]
[null,null,{"$f":"IF(見積書!C23<>\"\",見積書!C23,\"\")","v":""},null,null,null,null,null,{"$f":"IF(見積書!I23<>\"\",見積書!I23,\"\")","v":""},null,null,null,null,null,{"$f":"IF(見積書!O23<>\"\",見積書!O23,\"\")","v":""},null,null,null,null,null,{"$f":"IF(見積書!U23<>\"\",見積書!U23,\"\")","v":""},null,null,null,null,{"$f":"IF(見積書!Z23<>\"\",見積書!Z23,\"\")","v":""},null,null,{"$f":"IF(見積書!AC23<>\"\",見積書!AC23,\"\")","v":""},null,null,{"$f":"IF(見積書!AF23<>\"\",見積書!AF23,\"\")","v":""}]
[null,null,{"$f":"IF(見積書!C24<>\"\",見積書!C24,\"\")","v":""},null,null,null,null,null,{"$f":"IF(見積書!I24<>\"\",見積書!I24,\"\")","v":""},null,null,null,null,null,{"$f":"IF(見積書!O24<>\"\",見積書!O24,\"\")","v":""},null,null,null,null,null,{"$f":"IF(見積書!U24<>\"\",見積書!U24,\"\")","v":""},null,null,null,null,{"$f":"IF(見積書!Z24<>\"\",見積書!Z24,\"\")","v":""},null,null,{"$f":"IF(見積書!AC24<>\"\",見積書!AC24,\"\")","v":""},null,null,{"$f":"IF(見積書!AF24<>\"\",見積書!AF24,\"\")","v":""}]
[null,null,{"$f":"IF(見積書!C25<>\"\",見積書!C25,\"\")","v":""},null,null,null,null,null,{"$f":"IF(見積書!I25<>\"\",見積書!I25,\"\")","v":""},null,null,null,null,null,{"$f":"IF(見積書!O25<>\"\",見積書!O25,\"\")","v":""},null,null,null,null,null,{"$f":"IF(見積書!U25<>\"\",見積書!U25,\"\")","v":""},null,null,null,null,{"$f":"IF(見積書!Z25<>\"\",見積書!Z25,\"\")","v":""},null,null,{"$f":"IF(見積書!AC25<>\"\",見積書!AC25,\"\")","v":""},null,null,{"$f":"IF(見積書!AF25<>\"\",見積書!AF25,\"\")","v":""}]
[null,null,{"$f":"IF(見積書!C27<>\"\",見積書!C27,\"\")","v":""},null,null,null,null,null,{"$f":"IF(見積書!I27<>\"\",見積書!I27,\"\")","v":""},null,null,null,null,null,{"$f":"IF(見積書!O27<>\"\",見積書!O27,\"\")","v":""},null,null,null,null,null,{"$f":"IF(見積書!U27<>\"\",見積書!U27,\"\")","v":""},null,null,null,null,{"$f":"IF(見積書!Z27<>\"\",見積書!Z27,\"\")","v":""},null,null,{"$f":"IF(見積書!AC27<>\"\",見積書!AC27,\"\")","v":""},null,null,{"$f":"IF(見積書!AF27<>\"\",見積書!AF27,\"\")","v":""}]
[null,null,{"$f":"IF(見積書!C28<>\"\",見積書!C28,\"\")","v":""},null,null,null,null,null,{"$f":"IF(見積書!I28<>\"\",見積書!I28,\"\")","v":""},null,null,null,null,null,{"$f":"IF(見積書!O28<>\"\",見積書!O28,\"\")","v":""},null,null,null,null,null,{"$f":"IF(見積書!U28<>\"\",見積書!U28,\"\")","v":""},null,null,null,null,{"$f":"IF(見積書!Z28<>\"\",見積書!Z28,\"\")","v":""},null,null,{"$f":"IF(見積書!AC28<>\"\",見積書!AC28,\"\")","v":""},null,null,{"$f":"IF(見積書!AF28<>\"\",見積書!AF28,\"\")","v":""}]
[null,null,{"$f":"IF(見積書!C29<>\"\",見積書!C29,\"\")","v":""},null,null,null,null,null,{"$f":"IF(見積書!I29<>\"\",見積書!I29,\"\")","v":""},null,null,null,null,null,{"$f":"IF(見積書!O29<>\"\",見積書!O29,\"\")","v":""},null,null,null,null,null,{"$f":"IF(見積書!U29<>\"\",見積書!U29,\"\")","v":""},null,null,null,null,{"$f":"IF(見積書!Z29<>\"\",見積書!Z29,\"\")","v":""},null,null,{"$f":"IF(見積書!AC29<>\"\",見積書!AC29,\"\")","v":""},null,null,{"$f":"IF(見積書!AF29<>\"\",見積書!AF29,\"\")","v":""}]
[null,null,{"$f":"IF(見積書!C30<>\"\",見積書!C30,\"\")","v":""},null,null,null,null,null,{"$f":"IF(見積書!I30<>\"\",見積書!I30,\"\")","v":""},null,null,null,null,null,{"$f":"IF(見積書!O30<>\"\",見積書!O30,\"\")","v":""},null,null,null,null,null,{"$f":"IF(見積書!U30<>\"\",見積書!U30,\"\")","v":""},null,null,null,null,{"$f":"IF(見積書!Z30<>\"\",見積書!Z30,\"\")","v":""},null,null,{"$f":"IF(見積書!AC30<>\"\",見積書!AC30,\"\")","v":""},null,null,{"$f":"IF(見積書!AF30<>\"\",見積書!AF30,\"\")","v":""}]
[null,null,{"$f":"IF(見積書!C31<>\"\",見積書!C31,\"\")","v":""},null,null,null,null,null,{"$f":"IF(見積書!I31<>\"\",見積書!I31,\"\")","v":""},null,null,null,null,null,{"$f":"IF(見積書!O31<>\"\",見積書!O31,\"\")","v":""},null,null,null,null,null,{"$f":"IF(見積書!U31<>\"\",見積書!U31,\"\")","v":""},null,null,null,null,{"$f":"IF(見積書!Z31<>\"\",見積書!Z31,\"\")","v":""},null,null,{"$f":"IF(見積書!AC31<>\"\",見積書!AC31,\"\")","v":""},null,null,{"$f":"IF(見積書!AF31<>\"\",見積書!AF31,\"\")","v":""}]
[null,null,{"$f":"IF(見積書!C32<>\"\",見積書!C32,\"\")","v":""},null,null,null,null,null,{"$f":"IF(見積書!I32<>\"\",見積書!I32,\"\")","v":""},null,null,null,null,null,{"$f":"IF(見積書!O32<>\"\",見積書!O32,\"\")","v":""},null,null,null,null,null,{"$f":"IF(見積書!U32<>\"\",見積書!U32,\"\")","v":""},null,null,null,null,{"$f":"IF(見積書!Z32<>\"\",見積書!Z32,\"\")","v":""},null,null,{"$f":"IF(見積書!AC32<>\"\",見積書!AC32,\"\")","v":""},null,null,{"$f":"IF(見積書!AF32<>\"\",見積書!AF32,\"\")","v":""}]
[null,null,{"$f":"IF(見積書!C33<>\"\",見積書!C33,\"\")","v":""},null,null,null,null,null,{"$f":"IF(見積書!I33<>\"\",見積書!I33,\"\")","v":""},null,null,null,null,null,{"$f":"IF(見積書!O33<>\"\",見積書!O33,\"\")","v":""},null,null,null,null,null,{"$f":"IF(見積書!U33<>\"\",見積書!U33,\"\")","v":""},null,null,null,null,{"$f":"IF(見積書!Z33<>\"\",見積書!Z33,\"\")","v":""},null,null,{"$f":"IF(見積書!AC33<>\"\",見積書!AC33,\"\")","v":""},null,null,{"$f":"IF(見積書!AF33<>\"\",見積書!AF33,\"\")","v":""}]
[null,null,{"$f":"IF(見積書!C34<>\"\",見積書!C34,\"\")","v":""},null,null,null,null,null,{"$f":"IF(見積書!I34<>\"\",見積書!I34,\"\")","v":""},null,null,null,null,null,{"$f":"IF(見積書!O34<>\"\",見積書!O34,\"\")","v":""},null,null,null,null,null,{"$f":"IF(見積書!U34<>\"\",見積書!U34,\"\")","v":""},null,null,null,null,{"$f":"IF(見積書!Z34<>\"\",見積書!Z34,\"\")","v":""},null,null,{"$f":"IF(見積書!AC34<>\"\",見積書!AC34,\"\")","v":""},null,null,{"$f":"IF(見積書!AF34<>\"\",見積書!AF34,\"\")","v":""}]
[null,null,{"$f":"IF(見積書!C35<>\"\",見積書!C35,\"\")","v":""},null,null,null,null,null,{"$f":"IF(見積書!I35<>\"\",見積書!I35,\"\")","v":""},null,null,null,null,null,{"$f":"IF(見積書!O35<>\"\",見積書!O35,\"\")","v":""},null,null,null,null,null,{"$f":"IF(見積書!U35<>\"\",見積書!U35,\"\")","v":""},null,null,null,null,{"$f":"IF(見積書!Z35<>\"\",見積書!Z35,\"\")","v":""},null,null,{"$f":"IF(見積書!AC35<>\"\",見積書!AC35,\"\")","v":""},null,null,{"$f":"IF(見積書!AF35<>\"\",見積書!AF35,\"\")","v":""}]
[null,null,{"$f":"IF(見積書!C36<>\"\",見積書!C36,\"\")","v":""},null,null,null,null,null,{"$f":"IF(見積書!I36<>\"\",見積書!I36,\"\")","v":""},null,null,null,null,null,{"$f":"IF(見積書!O36<>\"\",見積書!O36,\"\")","v":""},null,null,null,null,null,{"$f":"IF(見積書!U36<>\"\",見積書!U36,\"\")","v":""},null,null,null,null,{"$f":"IF(見積書!Z36<>\"\",見積書!Z36,\"\")","v":""},null,null,{"$f":"IF(見積書!AC36<>\"\",見積書!AC36,\"\")","v":""},null,null,{"$f":"IF(見積書!AF36<>\"\",見積書!AF36,\"\")","v":""}]
[null,null,{"$f":"IF(見積書!C37<>\"\",見積書!C37,\"\")","v":""},null,null,null,null,null,{"$f":"IF(見積書!I37<>\"\",見積書!I37,\"\")","v":""},null,null,null,null,null,{"$f":"IF(見積書!O37<>\"\",見積書!O37,\"\")","v":""},null,null,null,null,null,{"$f":"IF(見積書!U37<>\"\",見積書!U37,\"\")","v":""},null,null,null,null,{"$f":"IF(見積書!Z37<>\"\",見積書!Z37,\"\")","v":""},null,null,{"$f":"IF(見積書!AC37<>\"\",見積書!AC37,\"\")","v":""},null,null,{"$f":"IF(見積書!AF37<>\"\",見積書!AF37,\"\")","v":""}]
[null,null,{"$f":"IF(見積書!C38<>\"\",見積書!C38,\"\")","v":""},null,null,null,null,null,{"$f":"IF(見積書!I38<>\"\",見積書!I38,\"\")","v":""},null,null,null,null,null,{"$f":"IF(見積書!O38<>\"\",見積書!O38,\"\")","v":""},null,null,null,null,null,{"$f":"IF(見積書!U38<>\"\",見積書!U38,\"\")","v":""},null,null,null,null,{"$f":"IF(見積書!Z38<>\"\",見積書!Z38,\"\")","v":""},null,null,{"$f":"IF(見積書!AC38<>\"\",見積書!AC38,\"\")","v":""},null,null,{"$f":"IF(見積書!AF38<>\"\",見積書!AF38,\"\")","v":""}]
[null,null,{"$f":"IF(見積書!C38<>\"\",見積書!C38,\"\")","v":""},null,null,null,null,null,{"$f":"IF(見積書!I38<>\"\",見積書!I38,\"\")","v":""},null,null,null,null,null,{"$f":"IF(見積書!O38<>\"\",見積書!O38,\"\")","v":""},null,null,null,null,null,{"$f":"IF(見積書!U38<>\"\",見積書!U38,\"\")","v":""},null,null,null,null,{"$f":"IF(見積書!Z38<>\"\",見積書!Z38,\"\")","v":""},null,null,{"$f":"IF(見積書!AC38<>\"\",見積書!AC38,\"\")","v":""},null,null,{"$f":"IF(見積書!AF38<>\"\",見積書!AF38,\"\")","v":""}]
[null,null,{"$f":"IF(見積書!C39<>\"\",見積書!C39,\"\")","v":""},null,null,null,null,null,{"$f":"IF(見積書!I39<>\"\",見積書!I39,\"\")","v":""},null,null,null,null,null,{"$f":"IF(見積書!O39<>\"\",見積書!O39,\"\")","v":""},null,null,null,null,null,{"$f":"IF(見積書!U39<>\"\",見積書!U39,\"\")","v":""},null,null,null,null,{"$f":"IF(見積書!Z39<>\"\",見積書!Z39,\"\")","v":""},null,null,{"$f":"IF(見積書!AC39<>\"\",見積書!AC39,\"\")","v":""},null,null,{"$f":"IF(見積書!AF39<>\"\",見積書!AF39,\"\")","v":""}]
[null,null,{"$f":"IF(見積書!C40<>\"\",見積書!C40,\"\")","v":""},null,null,null,null,null,{"$f":"IF(見積書!I40<>\"\",見積書!I40,\"\")","v":""},null,null,null,null,null,{"$f":"IF(見積書!O40<>\"\",見積書!O40,\"\")","v":""},null,null,null,null,null,{"$f":"IF(見積書!U40<>\"\",見積書!U40,\"\")","v":""},null,null,null,null,{"$f":"IF(見積書!Z40<>\"\",見積書!Z40,\"\")","v":""},null,null,{"$f":"IF(見積書!AC40<>\"\",見積書!AC40,\"\")","v":""},null,null,{"$f":"IF(見積書!AF40<>\"\",見積書!AF40,\"\")","v":""}]
[null,null,{"$f":"IF(見積書!C41<>\"\",見積書!C41,\"\")","v":""},null,null,null,null,null,{"$f":"IF(見積書!I41<>\"\",見積書!I41,\"\")","v":""},null,null,null,null,null,{"$f":"IF(見積書!O41<>\"\",見積書!O41,\"\")","v":""},null,null,null,null,null,{"$f":"IF(見積書!U41<>\"\",見積書!U41,\"\")","v":""},null,null,null,null,{"$f":"IF(見積書!Z41<>\"\",見積書!Z41,\"\")","v":""},null,null,{"$f":"IF(見積書!AC41<>\"\",見積書!AC41,\"\")","v":""},null,null,{"$f":"IF(見積書!AF41<>\"\",見積書!AF41,\"\")","v":""}]
[null,null,null,null,null,null,null,null,null,null,null,null,null,null,null,null,null,null,null,null,null,null,null,null,null,"小　　計",null,null,null,null,null,{"$f":"SUM(AF22:AJ41)","v":0}]
[null,null,null,null,null,null,null,null,null,null,null,null,null,null,null,null,null,null,null,null,null,null,null,null,null,{"$f":"\"消費税（\"&設定!C8&\"%）\"","v":"消費税（10%）"},null,null,null,null,null,{"$f":"AF42*設定!C8/100","v":0}]
[null,null,null,null,null,null,null,null,null,null,null,null,null,null,null,null,null,null,null,null,null,null,null,null,null,"合　　計",null,null,null,null,null,{"$f":"SUM(AF42:AJ43)","v":0}]
[]
[null,null,"≪備考≫"]

{"sheet":"設定","index":4,"n_rows":8,"n_cols":4,"rows_kept":8,"cut":false,"hidden":false,"merged":[]}
[]
[]
[null,"項目","パラメータ（変更可能）"]
[null,"見積書保存先フォルダパス","C:\\WORK\\各種書類\\01_見積書"]
[null,"納品書保存先フォルダパス","C:\\WORK\\各種書類\\03_納品書"]
[null,"請求書保存先フォルダパス","C:\\WORK\\各種書類\\05_請求書"]
[null,"領収書保存先フォルダパス","C:\\WORK\\各種書類\\06_領収書"]
[null,"消費税",10,"％"]

{"sheet":"使い方","index":5,"n_rows":22,"n_cols":3,"rows_kept":22,"cut":false,"hidden":false,"merged":[]}
[]
[null,"▼設定手順"]
[null,"①","各種書類の会社名や住所などのテンプレート部分を自社向けに書き換えます。"]
[null,"②","設定シートの各種書類の保存先を書き換えます。"]
[]
[null,"▼使い方（見積書）"]
[null,"①","見積書に必要事項を入力します。"]
[null,"②","「保存＆PDF出力」ボタンをクリックすると、本Excelを同フォルダ内に別名保存し、指定した見積書の保存先にPDFファイルが保存されます。"]
[]
[null,"▼使い方（見積書以外）"]
[null,"①","見積書に必要事項を入力すると、見積書の内容が他の書類に反映されます。（既に見積書に入力済の場合はスキップ）"]
[null,"②","編集したいシートを選択して、必要に応じてその内容を加筆修正します。"]
[null,"③","そのシート内の「保存＆PDF出力」ボタンをクリックすると、本Excelを同フォルダ内に別名保存（見積書で保存している場合は上書き保存）し、指定した保存先にPDFファイルが保存されます。"]
[]
[null,"▼注意事項"]
[null,"・","ファイル名の「販売提出書類マスタ」を変更しないでください。この部分を「請求書」などに書き換えて保存します。"]
[]
[]
[null,"▼","重要"]
[null,"・","このファイルは自由に利用していただいて構いませんが、自己責任の範囲でご利用ください。"]
[null,"・","このファイルを利用したことでいかなるトラブルが発生しても、一切の責任を負いかねます。"]
[null,"・","このファイル（またはカスタマイズしたファイル）を販売することは禁止いたします。"]